BEGIN:VCALENDAR
VERSION:2.0
PRODID:-//Little Hadham Parish Council//Meeting Calendar//EN
CALSCALE:GREGORIAN
METHOD:PUBLISH
BEGIN:VEVENT
UID:71024-20261006@littlehadham-pc.gov.uk
DTSTAMP:20260421T083213Z
DTSTART;VALUE=DATE:20261006
DTEND;VALUE=DATE:20261007
SUMMARY:Parish Council Public Meeting &#8211\\; 6th October 2026
DESCRIPTION:Parish Council Meeting\nView details: https://littlehadham-pc.gov.uk/meetings/parish-council-public-meeting-6th-october-2026/
URL:https://littlehadham-pc.gov.uk/meetings/parish-council-public-meeting-6th-october-2026/
END:VEVENT
END:VCALENDAR
