BEGIN:VCALENDAR
VERSION:2.0
PRODID:-//Little Hadham Parish Council//Meeting Calendar//EN
CALSCALE:GREGORIAN
METHOD:PUBLISH
BEGIN:VEVENT
UID:71020-20260505@littlehadham-pc.gov.uk
DTSTAMP:20260421T083153Z
DTSTART;VALUE=DATE:20260505
DTEND;VALUE=DATE:20260506
SUMMARY:Parish Council Public Meeting &#8211\\; 5th May 2026
DESCRIPTION:Parish Council Meeting\nView details: https://littlehadham-pc.gov.uk/meetings/parish-council-public-meeting-5th-may-2026/
URL:https://littlehadham-pc.gov.uk/meetings/parish-council-public-meeting-5th-may-2026/
END:VEVENT
END:VCALENDAR
