BEGIN:VCALENDAR
VERSION:2.0
PRODID:-//Little Hadham Parish Council//Meeting Calendar//EN
CALSCALE:GREGORIAN
METHOD:PUBLISH
BEGIN:VEVENT
UID:70756-20240206@littlehadham-pc.gov.uk
DTSTAMP:20260421T123544Z
DTSTART;VALUE=DATE:20240206
DTEND;VALUE=DATE:20240207
SUMMARY:Parish Council Meeting &#8211\\; 6th February 2024
DESCRIPTION:Parish Council Meeting\nView details: https://littlehadham-pc.gov.uk/meetings/parish-council-meeting-6th-february-2024/
URL:https://littlehadham-pc.gov.uk/meetings/parish-council-meeting-6th-february-2024/
END:VEVENT
END:VCALENDAR
