BEGIN:VCALENDAR
VERSION:2.0
PRODID:-//Little Hadham Parish Council//Meeting Calendar//EN
CALSCALE:GREGORIAN
METHOD:PUBLISH
BEGIN:VEVENT
UID:70616-20251007@littlehadham-pc.gov.uk
DTSTAMP:20260421T100418Z
DTSTART;VALUE=DATE:20251007
DTEND;VALUE=DATE:20251008
SUMMARY:Parish Council Public Meeting &#8211\\; 7th Oct 25
DESCRIPTION:Parish Council Meeting\nView details: https://littlehadham-pc.gov.uk/meetings/parish-council-public-meeting-7/
URL:https://littlehadham-pc.gov.uk/meetings/parish-council-public-meeting-7/
END:VEVENT
END:VCALENDAR
