BEGIN:VCALENDAR
VERSION:2.0
PRODID:-//Little Hadham Parish Council//Meeting Calendar//EN
CALSCALE:GREGORIAN
METHOD:PUBLISH
BEGIN:VEVENT
UID:70614-20250701@littlehadham-pc.gov.uk
DTSTAMP:20260421T094249Z
DTSTART;VALUE=DATE:20250701
DTEND;VALUE=DATE:20250702
SUMMARY:Parish Council Public Meeting &#8211\\; 1st July 25
DESCRIPTION:Parish Council Meeting\nView details: https://littlehadham-pc.gov.uk/meetings/parish-council-public-meeting-5/
URL:https://littlehadham-pc.gov.uk/meetings/parish-council-public-meeting-5/
END:VEVENT
END:VCALENDAR
