BEGIN:VCALENDAR
VERSION:2.0
PRODID:-//Little Hadham Parish Council//Meeting Calendar//EN
CALSCALE:GREGORIAN
METHOD:PUBLISH
BEGIN:VEVENT
UID:70612-20250506@littlehadham-pc.gov.uk
DTSTAMP:20260422T114501Z
DTSTART;VALUE=DATE:20250506
DTEND;VALUE=DATE:20250507
SUMMARY:Parish Council Public Meeting &#8211\\; 6th May 25
DESCRIPTION:Annual Meeting Meeting\nView details: https://littlehadham-pc.gov.uk/meetings/parish-council-public-meeting-3/
URL:https://littlehadham-pc.gov.uk/meetings/parish-council-public-meeting-3/
END:VEVENT
END:VCALENDAR
