BEGIN:VCALENDAR
VERSION:2.0
PRODID:-//Little Hadham Parish Council//Meeting Calendar//EN
CALSCALE:GREGORIAN
METHOD:PUBLISH
BEGIN:VEVENT
UID:70447-20220101@littlehadham-pc.gov.uk
DTSTAMP:20260422T134502Z
DTSTART;VALUE=DATE:20220101
DTEND;VALUE=DATE:20220102
SUMMARY:Council Meetings &#8211\\; 2022
DESCRIPTION:Council Meeting\nView details: https://littlehadham-pc.gov.uk/meetings/council-meetings-2022/
URL:https://littlehadham-pc.gov.uk/meetings/council-meetings-2022/
END:VEVENT
END:VCALENDAR
