BEGIN:VCALENDAR
VERSION:2.0
PRODID:-//Little Hadham Parish Council//Meeting Calendar//EN
CALSCALE:GREGORIAN
METHOD:PUBLISH
BEGIN:VEVENT
UID:70437-20230101@littlehadham-pc.gov.uk
DTSTAMP:20260422T151208Z
DTSTART;VALUE=DATE:20230101
DTEND;VALUE=DATE:20230102
SUMMARY:Council Meetings &#8211\\; 2023
DESCRIPTION:Council Meeting\nView details: https://littlehadham-pc.gov.uk/meetings/council-meetings-2023/
URL:https://littlehadham-pc.gov.uk/meetings/council-meetings-2023/
END:VEVENT
END:VCALENDAR
